BEGIN:VCALENDAR
VERSION:2.0
PRODID:-//Montgomery Whitewater - ECPv6.15.17.1//NONSGML v1.0//EN
CALSCALE:GREGORIAN
METHOD:PUBLISH
X-WR-CALNAME:Montgomery Whitewater
X-ORIGINAL-URL:https://mww.redirontest.info
X-WR-CALDESC:Events for Montgomery Whitewater
REFRESH-INTERVAL;VALUE=DURATION:PT1H
X-Robots-Tag:noindex
X-PUBLISHED-TTL:PT1H
BEGIN:VTIMEZONE
TZID:America/Chicago
BEGIN:DAYLIGHT
TZOFFSETFROM:-0600
TZOFFSETTO:-0500
TZNAME:CDT
DTSTART:20240310T080000
END:DAYLIGHT
BEGIN:STANDARD
TZOFFSETFROM:-0500
TZOFFSETTO:-0600
TZNAME:CST
DTSTART:20241103T070000
END:STANDARD
BEGIN:DAYLIGHT
TZOFFSETFROM:-0600
TZOFFSETTO:-0500
TZNAME:CDT
DTSTART:20250309T080000
END:DAYLIGHT
BEGIN:STANDARD
TZOFFSETFROM:-0500
TZOFFSETTO:-0600
TZNAME:CST
DTSTART:20251102T070000
END:STANDARD
BEGIN:DAYLIGHT
TZOFFSETFROM:-0600
TZOFFSETTO:-0500
TZNAME:CDT
DTSTART:20260308T080000
END:DAYLIGHT
BEGIN:STANDARD
TZOFFSETFROM:-0500
TZOFFSETTO:-0600
TZNAME:CST
DTSTART:20261101T070000
END:STANDARD
END:VTIMEZONE
BEGIN:VEVENT
DTSTART;TZID=America/Chicago:20251206T170000
DTEND;TZID=America/Chicago:20251206T200000
DTSTAMP:20260419T203256
CREATED:20251028T192934Z
LAST-MODIFIED:20251231T034005Z
UID:10006913-1765040400-1765051200@mww.redirontest.info
SUMMARY:Campfire Music Series
DESCRIPTION:Fridays and Saturdays\nNovember 14-February 14 \nEnjoy live music by the fire and skate beneath the lights. Make lasting memories surrounded by family\, friends\, and the great outdoors. \nSee more upcoming events.
URL:https://mww.redirontest.info/event/campfire-music-series-live-music/2025-12-06/
LOCATION:Montgomery Whitewater\, 1100 Maxell Boulevard\, Montgomery\, AL\, 36104\, United States
ATTACH;FMTTYPE=image/jpeg:https://mww.redirontest.info/wp-content/uploads/2025/10/CFM_1920x1080_Calendar.jpg
END:VEVENT
BEGIN:VEVENT
DTSTART;TZID=America/Chicago:20251205T170000
DTEND;TZID=America/Chicago:20251205T200000
DTSTAMP:20260419T203256
CREATED:20251028T192934Z
LAST-MODIFIED:20251231T034005Z
UID:10006912-1764954000-1764964800@mww.redirontest.info
SUMMARY:Campfire Music Series
DESCRIPTION:Fridays and Saturdays\nNovember 14-February 14 \nEnjoy live music by the fire and skate beneath the lights. Make lasting memories surrounded by family\, friends\, and the great outdoors. \nSee more upcoming events.
URL:https://mww.redirontest.info/event/campfire-music-series-live-music/2025-12-05/
LOCATION:Montgomery Whitewater\, 1100 Maxell Boulevard\, Montgomery\, AL\, 36104\, United States
ATTACH;FMTTYPE=image/jpeg:https://mww.redirontest.info/wp-content/uploads/2025/10/CFM_1920x1080_Calendar.jpg
END:VEVENT
BEGIN:VEVENT
DTSTART;TZID=America/Chicago:20251204T190000
DTEND;TZID=America/Chicago:20251204T210000
DTSTAMP:20260419T203256
CREATED:20251028T215658Z
LAST-MODIFIED:20251113T023422Z
UID:10007162-1764874800-1764882000@mww.redirontest.info
SUMMARY:Tacky Sweater Trivia
DESCRIPTION:Thursdays\,\nNovember 20th-December 18th \nTis’ the season for tacky sweaters and holiday trivia! Join us Thursday nights from November 20th to December 18th for festive trivia\, seasonal drinks\, and a jolly good time. \nLearn more.
URL:https://mww.redirontest.info/event/tacky-sweater-trivia-night/2025-12-04/
LOCATION:Montgomery Whitewater\, 1100 Maxell Boulevard\, Montgomery\, AL\, 36104\, United States
ATTACH;FMTTYPE=image/jpeg:https://mww.redirontest.info/wp-content/uploads/2025/10/TackySweater_1920x1080_Calendar.jpg
END:VEVENT
BEGIN:VEVENT
DTSTART;TZID=America/Chicago:20251204T190000
DTEND;TZID=America/Chicago:20251204T210000
DTSTAMP:20260419T203256
CREATED:20250120T170215Z
LAST-MODIFIED:20260120T175629Z
UID:10007217-1764874800-1764882000@mww.redirontest.info
SUMMARY:Trivia at Eddy's
DESCRIPTION:Every Thursday night 7-9!
URL:https://mww.redirontest.info/event/trivia-at-eddys/2025-12-04/
LOCATION:Montgomery Whitewater\, 1100 Maxell Boulevard\, Montgomery\, AL\, 36104\, United States
ATTACH;FMTTYPE=image/jpeg:https://mww.redirontest.info/wp-content/uploads/2025/01/MW_WeeklyGraphics26_TriviaSolid_1920.jpeg
END:VEVENT
BEGIN:VEVENT
DTSTART;TZID=America/Chicago:20251203T183000
DTEND;TZID=America/Chicago:20251203T183000
DTSTAMP:20260419T203256
CREATED:20251028T213626Z
LAST-MODIFIED:20251113T022844Z
UID:10007042-1764786600-1764786600@mww.redirontest.info
SUMMARY:Broomball\, Burgers\, & Brews
DESCRIPTION:Wednesdays\,\nNovember 19th-February 11th \nAdd some outdoor fun to your mid-week calendar! Games will be played in a pick-up style format and are open to players of all skill levels. Montgomery Whitewater will provide players with equipment. \nGrab beer and burgers before or after the game at Eddy’s from 4-8 pm. \nLearn more.
URL:https://mww.redirontest.info/event/fun-things-to-do-broomball-burgers-brews/2025-12-03/
LOCATION:Montgomery Whitewater\, 1100 Maxell Boulevard\, Montgomery\, AL\, 36104\, United States
ATTACH;FMTTYPE=image/jpeg:https://mww.redirontest.info/wp-content/uploads/2025/10/Broomball_1920x1080_Calendar.jpg
END:VEVENT
BEGIN:VEVENT
DTSTART;TZID=America/Chicago:20251130T100000
DTEND;TZID=America/Chicago:20251130T180000
DTSTAMP:20260419T203256
CREATED:20251031T185101Z
LAST-MODIFIED:20251031T185102Z
UID:10006574-1764496800-1764525600@mww.redirontest.info
SUMMARY:Sunday Brunch & Patio Music
DESCRIPTION:On Sunday\, we brunch! Brunch is served from 10 am to 6 pm\, with live patio music from 12 pm to 3 pm.
URL:https://mww.redirontest.info/event/sunday-brunch-patio-music-3/2025-11-30/
LOCATION:Montgomery Whitewater\, 1100 Maxell Boulevard\, Montgomery\, AL\, 36104\, United States
END:VEVENT
BEGIN:VEVENT
DTSTART;TZID=America/Chicago:20251129T170000
DTEND;TZID=America/Chicago:20251129T200000
DTSTAMP:20260419T203256
CREATED:20251028T192934Z
LAST-MODIFIED:20251231T034005Z
UID:10006911-1764435600-1764446400@mww.redirontest.info
SUMMARY:Campfire Music Series
DESCRIPTION:Fridays and Saturdays\nNovember 14-February 14 \nEnjoy live music by the fire and skate beneath the lights. Make lasting memories surrounded by family\, friends\, and the great outdoors. \nSee more upcoming events.
URL:https://mww.redirontest.info/event/campfire-music-series-live-music/2025-11-29/
LOCATION:Montgomery Whitewater\, 1100 Maxell Boulevard\, Montgomery\, AL\, 36104\, United States
ATTACH;FMTTYPE=image/jpeg:https://mww.redirontest.info/wp-content/uploads/2025/10/CFM_1920x1080_Calendar.jpg
END:VEVENT
BEGIN:VEVENT
DTSTART;TZID=America/Chicago:20251128T170000
DTEND;TZID=America/Chicago:20251128T200000
DTSTAMP:20260419T203256
CREATED:20251028T192934Z
LAST-MODIFIED:20251231T034005Z
UID:10006910-1764349200-1764360000@mww.redirontest.info
SUMMARY:Campfire Music Series
DESCRIPTION:Fridays and Saturdays\nNovember 14-February 14 \nEnjoy live music by the fire and skate beneath the lights. Make lasting memories surrounded by family\, friends\, and the great outdoors. \nSee more upcoming events.
URL:https://mww.redirontest.info/event/campfire-music-series-live-music/2025-11-28/
LOCATION:Montgomery Whitewater\, 1100 Maxell Boulevard\, Montgomery\, AL\, 36104\, United States
ATTACH;FMTTYPE=image/jpeg:https://mww.redirontest.info/wp-content/uploads/2025/10/CFM_1920x1080_Calendar.jpg
END:VEVENT
BEGIN:VEVENT
DTSTART;TZID=America/Chicago:20251127T190000
DTEND;TZID=America/Chicago:20251127T210000
DTSTAMP:20260419T203256
CREATED:20250120T170215Z
LAST-MODIFIED:20260120T175629Z
UID:10007216-1764270000-1764277200@mww.redirontest.info
SUMMARY:Trivia at Eddy's
DESCRIPTION:Every Thursday night 7-9!
URL:https://mww.redirontest.info/event/trivia-at-eddys/2025-11-27/
LOCATION:Montgomery Whitewater\, 1100 Maxell Boulevard\, Montgomery\, AL\, 36104\, United States
ATTACH;FMTTYPE=image/jpeg:https://mww.redirontest.info/wp-content/uploads/2025/01/MW_WeeklyGraphics26_TriviaSolid_1920.jpeg
END:VEVENT
BEGIN:VEVENT
DTSTART;TZID=America/Chicago:20251126T183000
DTEND;TZID=America/Chicago:20251126T183000
DTSTAMP:20260419T203256
CREATED:20251028T213626Z
LAST-MODIFIED:20251113T022844Z
UID:10007041-1764181800-1764181800@mww.redirontest.info
SUMMARY:Broomball\, Burgers\, & Brews
DESCRIPTION:Wednesdays\,\nNovember 19th-February 11th \nAdd some outdoor fun to your mid-week calendar! Games will be played in a pick-up style format and are open to players of all skill levels. Montgomery Whitewater will provide players with equipment. \nGrab beer and burgers before or after the game at Eddy’s from 4-8 pm. \nLearn more.
URL:https://mww.redirontest.info/event/fun-things-to-do-broomball-burgers-brews/2025-11-26/
LOCATION:Montgomery Whitewater\, 1100 Maxell Boulevard\, Montgomery\, AL\, 36104\, United States
ATTACH;FMTTYPE=image/jpeg:https://mww.redirontest.info/wp-content/uploads/2025/10/Broomball_1920x1080_Calendar.jpg
END:VEVENT
BEGIN:VEVENT
DTSTART;TZID=America/Chicago:20251125T180000
DTEND;TZID=America/Chicago:20251125T200000
DTSTAMP:20260419T203256
CREATED:20251028T194540Z
LAST-MODIFIED:20251113T025310Z
UID:10007038-1764093600-1764100800@mww.redirontest.info
SUMMARY:Family Game Night
DESCRIPTION:Bigfoot’s Scarecrow Hay Day \nA fall-inspired evening featuring games like Scarecrow Scramble\, Candy Corn Count\, Leaf Line Logic\, and Let’s Be Thankful. Cozy up with good food\, laughter\, and a little friendly competition. \nLearn more!
URL:https://mww.redirontest.info/event/kids-eat-free-family-game-night/
LOCATION:Montgomery Whitewater\, 1100 Maxell Boulevard\, Montgomery\, AL\, 36104\, United States
ATTACH;FMTTYPE=image/jpeg:https://mww.redirontest.info/wp-content/uploads/2025/10/WinterWeeklyTexture_Web_Sacrecrow-1.jpg
END:VEVENT
BEGIN:VEVENT
DTSTART;TZID=America/Chicago:20251123T100000
DTEND;TZID=America/Chicago:20251123T180000
DTSTAMP:20260419T203256
CREATED:20251031T185101Z
LAST-MODIFIED:20251031T185102Z
UID:10006573-1763892000-1763920800@mww.redirontest.info
SUMMARY:Sunday Brunch & Patio Music
DESCRIPTION:On Sunday\, we brunch! Brunch is served from 10 am to 6 pm\, with live patio music from 12 pm to 3 pm.
URL:https://mww.redirontest.info/event/sunday-brunch-patio-music-3/2025-11-23/
LOCATION:Montgomery Whitewater\, 1100 Maxell Boulevard\, Montgomery\, AL\, 36104\, United States
END:VEVENT
BEGIN:VEVENT
DTSTART;TZID=America/Chicago:20251122T170000
DTEND;TZID=America/Chicago:20251122T200000
DTSTAMP:20260419T203256
CREATED:20251028T192934Z
LAST-MODIFIED:20251231T034005Z
UID:10006909-1763830800-1763841600@mww.redirontest.info
SUMMARY:Campfire Music Series
DESCRIPTION:Fridays and Saturdays\nNovember 14-February 14 \nEnjoy live music by the fire and skate beneath the lights. Make lasting memories surrounded by family\, friends\, and the great outdoors. \nSee more upcoming events.
URL:https://mww.redirontest.info/event/campfire-music-series-live-music/2025-11-22/
LOCATION:Montgomery Whitewater\, 1100 Maxell Boulevard\, Montgomery\, AL\, 36104\, United States
ATTACH;FMTTYPE=image/jpeg:https://mww.redirontest.info/wp-content/uploads/2025/10/CFM_1920x1080_Calendar.jpg
END:VEVENT
BEGIN:VEVENT
DTSTART;TZID=America/Chicago:20251121T170000
DTEND;TZID=America/Chicago:20251121T200000
DTSTAMP:20260419T203256
CREATED:20251028T192934Z
LAST-MODIFIED:20251231T034005Z
UID:10006908-1763744400-1763755200@mww.redirontest.info
SUMMARY:Campfire Music Series
DESCRIPTION:Fridays and Saturdays\nNovember 14-February 14 \nEnjoy live music by the fire and skate beneath the lights. Make lasting memories surrounded by family\, friends\, and the great outdoors. \nSee more upcoming events.
URL:https://mww.redirontest.info/event/campfire-music-series-live-music/2025-11-21/
LOCATION:Montgomery Whitewater\, 1100 Maxell Boulevard\, Montgomery\, AL\, 36104\, United States
ATTACH;FMTTYPE=image/jpeg:https://mww.redirontest.info/wp-content/uploads/2025/10/CFM_1920x1080_Calendar.jpg
END:VEVENT
BEGIN:VEVENT
DTSTART;TZID=America/Chicago:20251120T190000
DTEND;TZID=America/Chicago:20251120T210000
DTSTAMP:20260419T203256
CREATED:20251028T215658Z
LAST-MODIFIED:20251113T023422Z
UID:10007161-1763665200-1763672400@mww.redirontest.info
SUMMARY:Tacky Sweater Trivia
DESCRIPTION:Thursdays\,\nNovember 20th-December 18th \nTis’ the season for tacky sweaters and holiday trivia! Join us Thursday nights from November 20th to December 18th for festive trivia\, seasonal drinks\, and a jolly good time. \nLearn more.
URL:https://mww.redirontest.info/event/tacky-sweater-trivia-night/2025-11-20/
LOCATION:Montgomery Whitewater\, 1100 Maxell Boulevard\, Montgomery\, AL\, 36104\, United States
ATTACH;FMTTYPE=image/jpeg:https://mww.redirontest.info/wp-content/uploads/2025/10/TackySweater_1920x1080_Calendar.jpg
END:VEVENT
BEGIN:VEVENT
DTSTART;TZID=America/Chicago:20251120T190000
DTEND;TZID=America/Chicago:20251120T210000
DTSTAMP:20260419T203256
CREATED:20250120T170215Z
LAST-MODIFIED:20260120T175629Z
UID:10007215-1763665200-1763672400@mww.redirontest.info
SUMMARY:Trivia at Eddy's
DESCRIPTION:Every Thursday night 7-9!
URL:https://mww.redirontest.info/event/trivia-at-eddys/2025-11-20/
LOCATION:Montgomery Whitewater\, 1100 Maxell Boulevard\, Montgomery\, AL\, 36104\, United States
ATTACH;FMTTYPE=image/jpeg:https://mww.redirontest.info/wp-content/uploads/2025/01/MW_WeeklyGraphics26_TriviaSolid_1920.jpeg
END:VEVENT
BEGIN:VEVENT
DTSTART;TZID=America/Chicago:20251119T183000
DTEND;TZID=America/Chicago:20251119T183000
DTSTAMP:20260419T203256
CREATED:20251028T213626Z
LAST-MODIFIED:20251113T022844Z
UID:10007040-1763577000-1763577000@mww.redirontest.info
SUMMARY:Broomball\, Burgers\, & Brews
DESCRIPTION:Wednesdays\,\nNovember 19th-February 11th \nAdd some outdoor fun to your mid-week calendar! Games will be played in a pick-up style format and are open to players of all skill levels. Montgomery Whitewater will provide players with equipment. \nGrab beer and burgers before or after the game at Eddy’s from 4-8 pm. \nLearn more.
URL:https://mww.redirontest.info/event/fun-things-to-do-broomball-burgers-brews/2025-11-19/
LOCATION:Montgomery Whitewater\, 1100 Maxell Boulevard\, Montgomery\, AL\, 36104\, United States
ATTACH;FMTTYPE=image/jpeg:https://mww.redirontest.info/wp-content/uploads/2025/10/Broomball_1920x1080_Calendar.jpg
END:VEVENT
BEGIN:VEVENT
DTSTART;TZID=America/Chicago:20251116T100000
DTEND;TZID=America/Chicago:20251116T180000
DTSTAMP:20260419T203256
CREATED:20251113T215731Z
LAST-MODIFIED:20251113T215732Z
UID:10006572-1763287200-1763316000@mww.redirontest.info
SUMMARY:Sunday Brunch
DESCRIPTION:On Sunday\, we brunch! Brunch is served from 10 am to 6 pm.
URL:https://mww.redirontest.info/event/sunday-brunch-patio-music-3-2/
LOCATION:Montgomery Whitewater\, 1100 Maxell Boulevard\, Montgomery\, AL\, 36104\, United States
END:VEVENT
BEGIN:VEVENT
DTSTART;TZID=America/Chicago:20251115T170000
DTEND;TZID=America/Chicago:20251115T200000
DTSTAMP:20260419T203256
CREATED:20251028T192934Z
LAST-MODIFIED:20251231T034005Z
UID:10006907-1763226000-1763236800@mww.redirontest.info
SUMMARY:Campfire Music Series
DESCRIPTION:Fridays and Saturdays\nNovember 14-February 14 \nEnjoy live music by the fire and skate beneath the lights. Make lasting memories surrounded by family\, friends\, and the great outdoors. \nSee more upcoming events.
URL:https://mww.redirontest.info/event/campfire-music-series-live-music/2025-11-15/
LOCATION:Montgomery Whitewater\, 1100 Maxell Boulevard\, Montgomery\, AL\, 36104\, United States
ATTACH;FMTTYPE=image/jpeg:https://mww.redirontest.info/wp-content/uploads/2025/10/CFM_1920x1080_Calendar.jpg
END:VEVENT
BEGIN:VEVENT
DTSTART;TZID=America/Chicago:20251114T170000
DTEND;TZID=America/Chicago:20251114T200000
DTSTAMP:20260419T203256
CREATED:20251028T192934Z
LAST-MODIFIED:20251231T034005Z
UID:10006906-1763139600-1763150400@mww.redirontest.info
SUMMARY:Campfire Music Series
DESCRIPTION:Fridays and Saturdays\nNovember 14-February 14 \nEnjoy live music by the fire and skate beneath the lights. Make lasting memories surrounded by family\, friends\, and the great outdoors. \nSee more upcoming events.
URL:https://mww.redirontest.info/event/campfire-music-series-live-music/2025-11-14/
LOCATION:Montgomery Whitewater\, 1100 Maxell Boulevard\, Montgomery\, AL\, 36104\, United States
ATTACH;FMTTYPE=image/jpeg:https://mww.redirontest.info/wp-content/uploads/2025/10/CFM_1920x1080_Calendar.jpg
END:VEVENT
BEGIN:VEVENT
DTSTART;TZID=America/Chicago:20251113T190000
DTEND;TZID=America/Chicago:20251113T210000
DTSTAMP:20260419T203256
CREATED:20250120T170215Z
LAST-MODIFIED:20260120T175629Z
UID:10007214-1763060400-1763067600@mww.redirontest.info
SUMMARY:Trivia at Eddy's
DESCRIPTION:Every Thursday night 7-9!
URL:https://mww.redirontest.info/event/trivia-at-eddys/2025-11-13/
LOCATION:Montgomery Whitewater\, 1100 Maxell Boulevard\, Montgomery\, AL\, 36104\, United States
ATTACH;FMTTYPE=image/jpeg:https://mww.redirontest.info/wp-content/uploads/2025/01/MW_WeeklyGraphics26_TriviaSolid_1920.jpeg
END:VEVENT
BEGIN:VEVENT
DTSTART;VALUE=DATE:20251111
DTEND;VALUE=DATE:20251112
DTSTAMP:20260419T203256
CREATED:20251104T160538Z
LAST-MODIFIED:20251104T160538Z
UID:10007166-1762819200-1762905599@mww.redirontest.info
SUMMARY:Veterans' Day Discounts
DESCRIPTION:20% off Activities \nUse code VETERAN2025 at checkout!
URL:https://mww.redirontest.info/event/veterans-day-discounts/
LOCATION:Montgomery Whitewater\, 1100 Maxell Boulevard\, Montgomery\, AL\, 36104\, United States
END:VEVENT
BEGIN:VEVENT
DTSTART;TZID=America/Chicago:20251109T100000
DTEND;TZID=America/Chicago:20251109T180000
DTSTAMP:20260419T203256
CREATED:20251031T185101Z
LAST-MODIFIED:20251031T185102Z
UID:10006571-1762682400-1762711200@mww.redirontest.info
SUMMARY:Sunday Brunch & Patio Music
DESCRIPTION:On Sunday\, we brunch! Brunch is served from 10 am to 6 pm\, with live patio music from 12 pm to 3 pm.
URL:https://mww.redirontest.info/event/sunday-brunch-patio-music-3/2025-11-09/
LOCATION:Montgomery Whitewater\, 1100 Maxell Boulevard\, Montgomery\, AL\, 36104\, United States
END:VEVENT
BEGIN:VEVENT
DTSTART;TZID=America/Chicago:20251108T093000
DTEND;TZID=America/Chicago:20251108T120000
DTSTAMP:20260419T203256
CREATED:20251028T191720Z
LAST-MODIFIED:20251028T191720Z
UID:10006905-1762594200-1762603200@mww.redirontest.info
SUMMARY:Everyone Can Ride!
DESCRIPTION:A fun\, inclusive adaptive cycling event for kids of all ages and abilities. Hosted in partnership with the Lakeshore Foundation and Little Hammies. \nLearn more!
URL:https://mww.redirontest.info/event/everyone-can-ride/
LOCATION:Montgomery Whitewater\, 1100 Maxell Boulevard\, Montgomery\, AL\, 36104\, United States
ATTACH;FMTTYPE=image/jpeg:https://mww.redirontest.info/wp-content/uploads/2025/10/LakeshoreLilHammies_1920x1080-scaled.jpg
END:VEVENT
BEGIN:VEVENT
DTSTART;TZID=America/Chicago:20251108T090000
DTEND;TZID=America/Chicago:20251108T110000
DTSTAMP:20260419T203256
CREATED:20250922T135746Z
LAST-MODIFIED:20251002T142930Z
UID:10006863-1762592400-1762599600@mww.redirontest.info
SUMMARY:Nature School
DESCRIPTION:Saturdays\, October 18th – November 8th \n3rd-5th Graders\, Learn more and register! \nNature School at Montgomery Whitewater is a four-week Saturday program designed for students in grades 3–5. Through guided exploration\, journaling\, and hands-on activities inspired by Project WILD and Project Learning Tree\, students will connect with the natural world\, build critical thinking skills\, and foster environmental stewardship. Each session blends discovery\, creativity\, and play—encouraging curiosity and a lifelong love for the outdoors.
URL:https://mww.redirontest.info/event/nature-school/2025-11-08/
LOCATION:Montgomery Whitewater\, 1100 Maxell Boulevard\, Montgomery\, AL\, 36104\, United States
ATTACH;FMTTYPE=image/jpeg:https://mww.redirontest.info/wp-content/uploads/2025/09/NatureSchool_EventCalendar.jpg
END:VEVENT
BEGIN:VEVENT
DTSTART;TZID=America/Chicago:20251106T190000
DTEND;TZID=America/Chicago:20251106T210000
DTSTAMP:20260419T203256
CREATED:20250120T170215Z
LAST-MODIFIED:20260120T175629Z
UID:10005981-1762455600-1762462800@mww.redirontest.info
SUMMARY:Trivia at Eddy's
DESCRIPTION:Every Thursday night 7-9!
URL:https://mww.redirontest.info/event/trivia-at-eddys/2025-11-06/
LOCATION:Montgomery Whitewater\, 1100 Maxell Boulevard\, Montgomery\, AL\, 36104\, United States
ATTACH;FMTTYPE=image/jpeg:https://mww.redirontest.info/wp-content/uploads/2025/01/MW_WeeklyGraphics26_TriviaSolid_1920.jpeg
END:VEVENT
BEGIN:VEVENT
DTSTART;TZID=America/Chicago:20251102T100000
DTEND;TZID=America/Chicago:20251102T180000
DTSTAMP:20260419T203256
CREATED:20251031T185101Z
LAST-MODIFIED:20251031T185102Z
UID:10006570-1762077600-1762106400@mww.redirontest.info
SUMMARY:Sunday Brunch & Patio Music
DESCRIPTION:On Sunday\, we brunch! Brunch is served from 10 am to 6 pm\, with live patio music from 12 pm to 3 pm.
URL:https://mww.redirontest.info/event/sunday-brunch-patio-music-3/2025-11-02/
LOCATION:Montgomery Whitewater\, 1100 Maxell Boulevard\, Montgomery\, AL\, 36104\, United States
END:VEVENT
BEGIN:VEVENT
DTSTART;TZID=America/Chicago:20251101T090000
DTEND;TZID=America/Chicago:20251101T110000
DTSTAMP:20260419T203256
CREATED:20250922T135746Z
LAST-MODIFIED:20251002T142930Z
UID:10006862-1761987600-1761994800@mww.redirontest.info
SUMMARY:Nature School
DESCRIPTION:Saturdays\, October 18th – November 8th \n3rd-5th Graders\, Learn more and register! \nNature School at Montgomery Whitewater is a four-week Saturday program designed for students in grades 3–5. Through guided exploration\, journaling\, and hands-on activities inspired by Project WILD and Project Learning Tree\, students will connect with the natural world\, build critical thinking skills\, and foster environmental stewardship. Each session blends discovery\, creativity\, and play—encouraging curiosity and a lifelong love for the outdoors.
URL:https://mww.redirontest.info/event/nature-school/2025-11-01/
LOCATION:Montgomery Whitewater\, 1100 Maxell Boulevard\, Montgomery\, AL\, 36104\, United States
ATTACH;FMTTYPE=image/jpeg:https://mww.redirontest.info/wp-content/uploads/2025/09/NatureSchool_EventCalendar.jpg
END:VEVENT
BEGIN:VEVENT
DTSTART;TZID=America/Chicago:20251030T190000
DTEND;TZID=America/Chicago:20251030T210000
DTSTAMP:20260419T203256
CREATED:20250120T170215Z
LAST-MODIFIED:20260120T175629Z
UID:10005980-1761850800-1761858000@mww.redirontest.info
SUMMARY:Trivia at Eddy's
DESCRIPTION:Every Thursday night 7-9!
URL:https://mww.redirontest.info/event/trivia-at-eddys/2025-10-30/
LOCATION:Montgomery Whitewater\, 1100 Maxell Boulevard\, Montgomery\, AL\, 36104\, United States
ATTACH;FMTTYPE=image/jpeg:https://mww.redirontest.info/wp-content/uploads/2025/01/MW_WeeklyGraphics26_TriviaSolid_1920.jpeg
END:VEVENT
BEGIN:VEVENT
DTSTART;TZID=America/Chicago:20251026T100000
DTEND;TZID=America/Chicago:20251026T180000
DTSTAMP:20260419T203256
CREATED:20241208T011653Z
LAST-MODIFIED:20251001T181531Z
UID:10006569-1761472800-1761501600@mww.redirontest.info
SUMMARY:Sunday Brunch & Patio Music
DESCRIPTION:On Sunday\, we brunch! Brunch is served from 10 am to 6 pm\, with live patio music from 2 pm to 5 pm.
URL:https://mww.redirontest.info/event/sunday-brunch-patio-music/2025-10-26/
LOCATION:Montgomery Whitewater\, 1100 Maxell Boulevard\, Montgomery\, AL\, 36104\, United States
END:VEVENT
END:VCALENDAR