BEGIN:VCALENDAR
VERSION:2.0
PRODID:-//Montgomery Whitewater - ECPv6.15.17.1//NONSGML v1.0//EN
CALSCALE:GREGORIAN
METHOD:PUBLISH
X-WR-CALNAME:Montgomery Whitewater
X-ORIGINAL-URL:https://mww.redirontest.info
X-WR-CALDESC:Events for Montgomery Whitewater
REFRESH-INTERVAL;VALUE=DURATION:PT1H
X-Robots-Tag:noindex
X-PUBLISHED-TTL:PT1H
BEGIN:VTIMEZONE
TZID:America/Chicago
BEGIN:DAYLIGHT
TZOFFSETFROM:-0600
TZOFFSETTO:-0500
TZNAME:CDT
DTSTART:20240310T080000
END:DAYLIGHT
BEGIN:STANDARD
TZOFFSETFROM:-0500
TZOFFSETTO:-0600
TZNAME:CST
DTSTART:20241103T070000
END:STANDARD
BEGIN:DAYLIGHT
TZOFFSETFROM:-0600
TZOFFSETTO:-0500
TZNAME:CDT
DTSTART:20250309T080000
END:DAYLIGHT
BEGIN:STANDARD
TZOFFSETFROM:-0500
TZOFFSETTO:-0600
TZNAME:CST
DTSTART:20251102T070000
END:STANDARD
BEGIN:DAYLIGHT
TZOFFSETFROM:-0600
TZOFFSETTO:-0500
TZNAME:CDT
DTSTART:20260308T080000
END:DAYLIGHT
BEGIN:STANDARD
TZOFFSETFROM:-0500
TZOFFSETTO:-0600
TZNAME:CST
DTSTART:20261101T070000
END:STANDARD
BEGIN:DAYLIGHT
TZOFFSETFROM:-0600
TZOFFSETTO:-0500
TZNAME:CDT
DTSTART:20270314T080000
END:DAYLIGHT
BEGIN:STANDARD
TZOFFSETFROM:-0500
TZOFFSETTO:-0600
TZNAME:CST
DTSTART:20271107T070000
END:STANDARD
END:VTIMEZONE
BEGIN:VEVENT
DTSTART;TZID=America/Chicago:20260118T100000
DTEND;TZID=America/Chicago:20260118T180000
DTSTAMP:20260419T160350
CREATED:20251230T171751Z
LAST-MODIFIED:20251230T171933Z
UID:10006581-1768730400-1768759200@mww.redirontest.info
SUMMARY:Sunday Brunch & Patio Music
DESCRIPTION:On Sunday\, we brunch! Brunch is served from 10 am to 6 pm\, with live patio music from 1 pm to 4 pm.
URL:https://mww.redirontest.info/event/sunday-brunch-patio-music-3-3/2026-01-18/
LOCATION:Montgomery Whitewater\, 1100 Maxell Boulevard\, Montgomery\, AL\, 36104\, United States
END:VEVENT
BEGIN:VEVENT
DTSTART;TZID=America/Chicago:20260117T170000
DTEND;TZID=America/Chicago:20260117T200000
DTSTAMP:20260419T160350
CREATED:20251028T192934Z
LAST-MODIFIED:20251231T034005Z
UID:10006925-1768669200-1768680000@mww.redirontest.info
SUMMARY:Campfire Music Series
DESCRIPTION:Fridays and Saturdays\nNovember 14-February 14 \nEnjoy live music by the fire and skate beneath the lights. Make lasting memories surrounded by family\, friends\, and the great outdoors. \nSee more upcoming events.
URL:https://mww.redirontest.info/event/campfire-music-series-live-music/2026-01-17/
LOCATION:Montgomery Whitewater\, 1100 Maxell Boulevard\, Montgomery\, AL\, 36104\, United States
ATTACH;FMTTYPE=image/jpeg:https://mww.redirontest.info/wp-content/uploads/2025/10/CFM_1920x1080_Calendar.jpg
END:VEVENT
BEGIN:VEVENT
DTSTART;TZID=America/Chicago:20260116T170000
DTEND;TZID=America/Chicago:20260116T200000
DTSTAMP:20260419T160350
CREATED:20251028T192934Z
LAST-MODIFIED:20251231T034005Z
UID:10006924-1768582800-1768593600@mww.redirontest.info
SUMMARY:Campfire Music Series
DESCRIPTION:Fridays and Saturdays\nNovember 14-February 14 \nEnjoy live music by the fire and skate beneath the lights. Make lasting memories surrounded by family\, friends\, and the great outdoors. \nSee more upcoming events.
URL:https://mww.redirontest.info/event/campfire-music-series-live-music/2026-01-16/
LOCATION:Montgomery Whitewater\, 1100 Maxell Boulevard\, Montgomery\, AL\, 36104\, United States
ATTACH;FMTTYPE=image/jpeg:https://mww.redirontest.info/wp-content/uploads/2025/10/CFM_1920x1080_Calendar.jpg
END:VEVENT
BEGIN:VEVENT
DTSTART;TZID=America/Chicago:20260115T190000
DTEND;TZID=America/Chicago:20260115T210000
DTSTAMP:20260419T160350
CREATED:20250120T170215Z
LAST-MODIFIED:20260120T175629Z
UID:10005991-1768503600-1768510800@mww.redirontest.info
SUMMARY:Trivia at Eddy's
DESCRIPTION:Every Thursday night 7-9!
URL:https://mww.redirontest.info/event/trivia-at-eddys/2026-01-15/
LOCATION:Montgomery Whitewater\, 1100 Maxell Boulevard\, Montgomery\, AL\, 36104\, United States
ATTACH;FMTTYPE=image/jpeg:https://mww.redirontest.info/wp-content/uploads/2025/01/MW_WeeklyGraphics26_TriviaSolid_1920.jpeg
END:VEVENT
BEGIN:VEVENT
DTSTART;TZID=America/Chicago:20260114T183000
DTEND;TZID=America/Chicago:20260114T183000
DTSTAMP:20260419T160350
CREATED:20251028T213626Z
LAST-MODIFIED:20251113T022844Z
UID:10007048-1768415400-1768415400@mww.redirontest.info
SUMMARY:Broomball\, Burgers\, & Brews
DESCRIPTION:Wednesdays\,\nNovember 19th-February 11th \nAdd some outdoor fun to your mid-week calendar! Games will be played in a pick-up style format and are open to players of all skill levels. Montgomery Whitewater will provide players with equipment. \nGrab beer and burgers before or after the game at Eddy’s from 4-8 pm. \nLearn more.
URL:https://mww.redirontest.info/event/fun-things-to-do-broomball-burgers-brews/2026-01-14/
LOCATION:Montgomery Whitewater\, 1100 Maxell Boulevard\, Montgomery\, AL\, 36104\, United States
ATTACH;FMTTYPE=image/jpeg:https://mww.redirontest.info/wp-content/uploads/2025/10/Broomball_1920x1080_Calendar.jpg
END:VEVENT
BEGIN:VEVENT
DTSTART;TZID=America/Chicago:20260111T100000
DTEND;TZID=America/Chicago:20260111T180000
DTSTAMP:20260419T160350
CREATED:20251230T171751Z
LAST-MODIFIED:20251230T171933Z
UID:10006580-1768125600-1768154400@mww.redirontest.info
SUMMARY:Sunday Brunch & Patio Music
DESCRIPTION:On Sunday\, we brunch! Brunch is served from 10 am to 6 pm\, with live patio music from 1 pm to 4 pm.
URL:https://mww.redirontest.info/event/sunday-brunch-patio-music-3-3/2026-01-11/
LOCATION:Montgomery Whitewater\, 1100 Maxell Boulevard\, Montgomery\, AL\, 36104\, United States
END:VEVENT
BEGIN:VEVENT
DTSTART;TZID=America/Chicago:20260110T170000
DTEND;TZID=America/Chicago:20260110T200000
DTSTAMP:20260419T160350
CREATED:20251028T192934Z
LAST-MODIFIED:20251231T034005Z
UID:10006923-1768064400-1768075200@mww.redirontest.info
SUMMARY:Campfire Music Series
DESCRIPTION:Fridays and Saturdays\nNovember 14-February 14 \nEnjoy live music by the fire and skate beneath the lights. Make lasting memories surrounded by family\, friends\, and the great outdoors. \nSee more upcoming events.
URL:https://mww.redirontest.info/event/campfire-music-series-live-music/2026-01-10/
LOCATION:Montgomery Whitewater\, 1100 Maxell Boulevard\, Montgomery\, AL\, 36104\, United States
ATTACH;FMTTYPE=image/jpeg:https://mww.redirontest.info/wp-content/uploads/2025/10/CFM_1920x1080_Calendar.jpg
END:VEVENT
BEGIN:VEVENT
DTSTART;TZID=America/Chicago:20260109T170000
DTEND;TZID=America/Chicago:20260109T200000
DTSTAMP:20260419T160350
CREATED:20251028T192934Z
LAST-MODIFIED:20251231T034005Z
UID:10006922-1767978000-1767988800@mww.redirontest.info
SUMMARY:Campfire Music Series
DESCRIPTION:Fridays and Saturdays\nNovember 14-February 14 \nEnjoy live music by the fire and skate beneath the lights. Make lasting memories surrounded by family\, friends\, and the great outdoors. \nSee more upcoming events.
URL:https://mww.redirontest.info/event/campfire-music-series-live-music/2026-01-09/
LOCATION:Montgomery Whitewater\, 1100 Maxell Boulevard\, Montgomery\, AL\, 36104\, United States
ATTACH;FMTTYPE=image/jpeg:https://mww.redirontest.info/wp-content/uploads/2025/10/CFM_1920x1080_Calendar.jpg
END:VEVENT
BEGIN:VEVENT
DTSTART;TZID=America/Chicago:20260108T190000
DTEND;TZID=America/Chicago:20260108T210000
DTSTAMP:20260419T160350
CREATED:20250120T170215Z
LAST-MODIFIED:20260120T175629Z
UID:10005990-1767898800-1767906000@mww.redirontest.info
SUMMARY:Trivia at Eddy's
DESCRIPTION:Every Thursday night 7-9!
URL:https://mww.redirontest.info/event/trivia-at-eddys/2026-01-08/
LOCATION:Montgomery Whitewater\, 1100 Maxell Boulevard\, Montgomery\, AL\, 36104\, United States
ATTACH;FMTTYPE=image/jpeg:https://mww.redirontest.info/wp-content/uploads/2025/01/MW_WeeklyGraphics26_TriviaSolid_1920.jpeg
END:VEVENT
BEGIN:VEVENT
DTSTART;TZID=America/Chicago:20260107T183000
DTEND;TZID=America/Chicago:20260107T183000
DTSTAMP:20260419T160350
CREATED:20251028T213626Z
LAST-MODIFIED:20251113T022844Z
UID:10007047-1767810600-1767810600@mww.redirontest.info
SUMMARY:Broomball\, Burgers\, & Brews
DESCRIPTION:Wednesdays\,\nNovember 19th-February 11th \nAdd some outdoor fun to your mid-week calendar! Games will be played in a pick-up style format and are open to players of all skill levels. Montgomery Whitewater will provide players with equipment. \nGrab beer and burgers before or after the game at Eddy’s from 4-8 pm. \nLearn more.
URL:https://mww.redirontest.info/event/fun-things-to-do-broomball-burgers-brews/2026-01-07/
LOCATION:Montgomery Whitewater\, 1100 Maxell Boulevard\, Montgomery\, AL\, 36104\, United States
ATTACH;FMTTYPE=image/jpeg:https://mww.redirontest.info/wp-content/uploads/2025/10/Broomball_1920x1080_Calendar.jpg
END:VEVENT
BEGIN:VEVENT
DTSTART;TZID=America/Chicago:20260104T100000
DTEND;TZID=America/Chicago:20260104T180000
DTSTAMP:20260419T160350
CREATED:20251230T171751Z
LAST-MODIFIED:20251230T171933Z
UID:10006579-1767520800-1767549600@mww.redirontest.info
SUMMARY:Sunday Brunch & Patio Music
DESCRIPTION:On Sunday\, we brunch! Brunch is served from 10 am to 6 pm\, with live patio music from 1 pm to 4 pm.
URL:https://mww.redirontest.info/event/sunday-brunch-patio-music-3-3/2026-01-04/
LOCATION:Montgomery Whitewater\, 1100 Maxell Boulevard\, Montgomery\, AL\, 36104\, United States
END:VEVENT
BEGIN:VEVENT
DTSTART;TZID=America/Chicago:20260103T170000
DTEND;TZID=America/Chicago:20260103T200000
DTSTAMP:20260419T160350
CREATED:20251028T192934Z
LAST-MODIFIED:20251231T034005Z
UID:10006921-1767459600-1767470400@mww.redirontest.info
SUMMARY:Campfire Music Series
DESCRIPTION:Fridays and Saturdays\nNovember 14-February 14 \nEnjoy live music by the fire and skate beneath the lights. Make lasting memories surrounded by family\, friends\, and the great outdoors. \nSee more upcoming events.
URL:https://mww.redirontest.info/event/campfire-music-series-live-music/2026-01-03/
LOCATION:Montgomery Whitewater\, 1100 Maxell Boulevard\, Montgomery\, AL\, 36104\, United States
ATTACH;FMTTYPE=image/jpeg:https://mww.redirontest.info/wp-content/uploads/2025/10/CFM_1920x1080_Calendar.jpg
END:VEVENT
BEGIN:VEVENT
DTSTART;TZID=America/Chicago:20260102T170000
DTEND;TZID=America/Chicago:20260102T200000
DTSTAMP:20260419T160350
CREATED:20251028T192934Z
LAST-MODIFIED:20251231T034005Z
UID:10006920-1767373200-1767384000@mww.redirontest.info
SUMMARY:Campfire Music Series
DESCRIPTION:Fridays and Saturdays\nNovember 14-February 14 \nEnjoy live music by the fire and skate beneath the lights. Make lasting memories surrounded by family\, friends\, and the great outdoors. \nSee more upcoming events.
URL:https://mww.redirontest.info/event/campfire-music-series-live-music/2026-01-02/
LOCATION:Montgomery Whitewater\, 1100 Maxell Boulevard\, Montgomery\, AL\, 36104\, United States
ATTACH;FMTTYPE=image/jpeg:https://mww.redirontest.info/wp-content/uploads/2025/10/CFM_1920x1080_Calendar.jpg
END:VEVENT
BEGIN:VEVENT
DTSTART;TZID=America/Chicago:20260101T190000
DTEND;TZID=America/Chicago:20260101T210000
DTSTAMP:20260419T160350
CREATED:20250120T170215Z
LAST-MODIFIED:20260120T175629Z
UID:10005989-1767294000-1767301200@mww.redirontest.info
SUMMARY:Trivia at Eddy's
DESCRIPTION:Every Thursday night 7-9!
URL:https://mww.redirontest.info/event/trivia-at-eddys/2026-01-01/
LOCATION:Montgomery Whitewater\, 1100 Maxell Boulevard\, Montgomery\, AL\, 36104\, United States
ATTACH;FMTTYPE=image/jpeg:https://mww.redirontest.info/wp-content/uploads/2025/01/MW_WeeklyGraphics26_TriviaSolid_1920.jpeg
END:VEVENT
BEGIN:VEVENT
DTSTART;TZID=America/Chicago:20251231T183000
DTEND;TZID=America/Chicago:20251231T183000
DTSTAMP:20260419T160350
CREATED:20251028T213626Z
LAST-MODIFIED:20251113T022844Z
UID:10007046-1767205800-1767205800@mww.redirontest.info
SUMMARY:Broomball\, Burgers\, & Brews
DESCRIPTION:Wednesdays\,\nNovember 19th-February 11th \nAdd some outdoor fun to your mid-week calendar! Games will be played in a pick-up style format and are open to players of all skill levels. Montgomery Whitewater will provide players with equipment. \nGrab beer and burgers before or after the game at Eddy’s from 4-8 pm. \nLearn more.
URL:https://mww.redirontest.info/event/fun-things-to-do-broomball-burgers-brews/2025-12-31/
LOCATION:Montgomery Whitewater\, 1100 Maxell Boulevard\, Montgomery\, AL\, 36104\, United States
ATTACH;FMTTYPE=image/jpeg:https://mww.redirontest.info/wp-content/uploads/2025/10/Broomball_1920x1080_Calendar.jpg
END:VEVENT
BEGIN:VEVENT
DTSTART;TZID=America/Chicago:20251228T100000
DTEND;TZID=America/Chicago:20251228T180000
DTSTAMP:20260419T160350
CREATED:20251031T185101Z
LAST-MODIFIED:20251031T185102Z
UID:10006578-1766916000-1766944800@mww.redirontest.info
SUMMARY:Sunday Brunch & Patio Music
DESCRIPTION:On Sunday\, we brunch! Brunch is served from 10 am to 6 pm\, with live patio music from 12 pm to 3 pm.
URL:https://mww.redirontest.info/event/sunday-brunch-patio-music-3/2025-12-28/
LOCATION:Montgomery Whitewater\, 1100 Maxell Boulevard\, Montgomery\, AL\, 36104\, United States
END:VEVENT
BEGIN:VEVENT
DTSTART;TZID=America/Chicago:20251227T170000
DTEND;TZID=America/Chicago:20251227T200000
DTSTAMP:20260419T160350
CREATED:20251028T192934Z
LAST-MODIFIED:20251231T034005Z
UID:10006919-1766854800-1766865600@mww.redirontest.info
SUMMARY:Campfire Music Series
DESCRIPTION:Fridays and Saturdays\nNovember 14-February 14 \nEnjoy live music by the fire and skate beneath the lights. Make lasting memories surrounded by family\, friends\, and the great outdoors. \nSee more upcoming events.
URL:https://mww.redirontest.info/event/campfire-music-series-live-music/2025-12-27/
LOCATION:Montgomery Whitewater\, 1100 Maxell Boulevard\, Montgomery\, AL\, 36104\, United States
ATTACH;FMTTYPE=image/jpeg:https://mww.redirontest.info/wp-content/uploads/2025/10/CFM_1920x1080_Calendar.jpg
END:VEVENT
BEGIN:VEVENT
DTSTART;TZID=America/Chicago:20251226T170000
DTEND;TZID=America/Chicago:20251226T200000
DTSTAMP:20260419T160350
CREATED:20251028T192934Z
LAST-MODIFIED:20251231T034005Z
UID:10006918-1766768400-1766779200@mww.redirontest.info
SUMMARY:Campfire Music Series
DESCRIPTION:Fridays and Saturdays\nNovember 14-February 14 \nEnjoy live music by the fire and skate beneath the lights. Make lasting memories surrounded by family\, friends\, and the great outdoors. \nSee more upcoming events.
URL:https://mww.redirontest.info/event/campfire-music-series-live-music/2025-12-26/
LOCATION:Montgomery Whitewater\, 1100 Maxell Boulevard\, Montgomery\, AL\, 36104\, United States
ATTACH;FMTTYPE=image/jpeg:https://mww.redirontest.info/wp-content/uploads/2025/10/CFM_1920x1080_Calendar.jpg
END:VEVENT
BEGIN:VEVENT
DTSTART;TZID=America/Chicago:20251225T190000
DTEND;TZID=America/Chicago:20251225T210000
DTSTAMP:20260419T160350
CREATED:20250120T170215Z
LAST-MODIFIED:20260120T175629Z
UID:10007220-1766689200-1766696400@mww.redirontest.info
SUMMARY:Trivia at Eddy's
DESCRIPTION:Every Thursday night 7-9!
URL:https://mww.redirontest.info/event/trivia-at-eddys/2025-12-25/
LOCATION:Montgomery Whitewater\, 1100 Maxell Boulevard\, Montgomery\, AL\, 36104\, United States
ATTACH;FMTTYPE=image/jpeg:https://mww.redirontest.info/wp-content/uploads/2025/01/MW_WeeklyGraphics26_TriviaSolid_1920.jpeg
END:VEVENT
BEGIN:VEVENT
DTSTART;TZID=America/Chicago:20251224T183000
DTEND;TZID=America/Chicago:20251224T183000
DTSTAMP:20260419T160350
CREATED:20251028T213626Z
LAST-MODIFIED:20251113T022844Z
UID:10007167-1766601000-1766601000@mww.redirontest.info
SUMMARY:Broomball\, Burgers\, & Brews
DESCRIPTION:Wednesdays\,\nNovember 19th-February 11th \nAdd some outdoor fun to your mid-week calendar! Games will be played in a pick-up style format and are open to players of all skill levels. Montgomery Whitewater will provide players with equipment. \nGrab beer and burgers before or after the game at Eddy’s from 4-8 pm. \nLearn more.
URL:https://mww.redirontest.info/event/fun-things-to-do-broomball-burgers-brews/2025-12-24/
LOCATION:Montgomery Whitewater\, 1100 Maxell Boulevard\, Montgomery\, AL\, 36104\, United States
ATTACH;FMTTYPE=image/jpeg:https://mww.redirontest.info/wp-content/uploads/2025/10/Broomball_1920x1080_Calendar.jpg
END:VEVENT
BEGIN:VEVENT
DTSTART;TZID=America/Chicago:20251221T100000
DTEND;TZID=America/Chicago:20251221T180000
DTSTAMP:20260419T160350
CREATED:20251031T185101Z
LAST-MODIFIED:20251031T185102Z
UID:10006577-1766311200-1766340000@mww.redirontest.info
SUMMARY:Sunday Brunch & Patio Music
DESCRIPTION:On Sunday\, we brunch! Brunch is served from 10 am to 6 pm\, with live patio music from 12 pm to 3 pm.
URL:https://mww.redirontest.info/event/sunday-brunch-patio-music-3/2025-12-21/
LOCATION:Montgomery Whitewater\, 1100 Maxell Boulevard\, Montgomery\, AL\, 36104\, United States
END:VEVENT
BEGIN:VEVENT
DTSTART;TZID=America/Chicago:20251220T170000
DTEND;TZID=America/Chicago:20251220T200000
DTSTAMP:20260419T160350
CREATED:20251028T192934Z
LAST-MODIFIED:20251231T034005Z
UID:10006917-1766250000-1766260800@mww.redirontest.info
SUMMARY:Campfire Music Series
DESCRIPTION:Fridays and Saturdays\nNovember 14-February 14 \nEnjoy live music by the fire and skate beneath the lights. Make lasting memories surrounded by family\, friends\, and the great outdoors. \nSee more upcoming events.
URL:https://mww.redirontest.info/event/campfire-music-series-live-music/2025-12-20/
LOCATION:Montgomery Whitewater\, 1100 Maxell Boulevard\, Montgomery\, AL\, 36104\, United States
ATTACH;FMTTYPE=image/jpeg:https://mww.redirontest.info/wp-content/uploads/2025/10/CFM_1920x1080_Calendar.jpg
END:VEVENT
BEGIN:VEVENT
DTSTART;TZID=America/Chicago:20251219T170000
DTEND;TZID=America/Chicago:20251219T200000
DTSTAMP:20260419T160350
CREATED:20251028T192934Z
LAST-MODIFIED:20251231T034005Z
UID:10006916-1766163600-1766174400@mww.redirontest.info
SUMMARY:Campfire Music Series
DESCRIPTION:Fridays and Saturdays\nNovember 14-February 14 \nEnjoy live music by the fire and skate beneath the lights. Make lasting memories surrounded by family\, friends\, and the great outdoors. \nSee more upcoming events.
URL:https://mww.redirontest.info/event/campfire-music-series-live-music/2025-12-19/
LOCATION:Montgomery Whitewater\, 1100 Maxell Boulevard\, Montgomery\, AL\, 36104\, United States
ATTACH;FMTTYPE=image/jpeg:https://mww.redirontest.info/wp-content/uploads/2025/10/CFM_1920x1080_Calendar.jpg
END:VEVENT
BEGIN:VEVENT
DTSTART;TZID=America/Chicago:20251218T190000
DTEND;TZID=America/Chicago:20251218T210000
DTSTAMP:20260419T160350
CREATED:20251028T215658Z
LAST-MODIFIED:20251113T023422Z
UID:10007164-1766084400-1766091600@mww.redirontest.info
SUMMARY:Tacky Sweater Trivia
DESCRIPTION:Thursdays\,\nNovember 20th-December 18th \nTis’ the season for tacky sweaters and holiday trivia! Join us Thursday nights from November 20th to December 18th for festive trivia\, seasonal drinks\, and a jolly good time. \nLearn more.
URL:https://mww.redirontest.info/event/tacky-sweater-trivia-night/2025-12-18/
LOCATION:Montgomery Whitewater\, 1100 Maxell Boulevard\, Montgomery\, AL\, 36104\, United States
ATTACH;FMTTYPE=image/jpeg:https://mww.redirontest.info/wp-content/uploads/2025/10/TackySweater_1920x1080_Calendar.jpg
END:VEVENT
BEGIN:VEVENT
DTSTART;TZID=America/Chicago:20251218T190000
DTEND;TZID=America/Chicago:20251218T210000
DTSTAMP:20260419T160350
CREATED:20250120T170215Z
LAST-MODIFIED:20260120T175629Z
UID:10007219-1766084400-1766091600@mww.redirontest.info
SUMMARY:Trivia at Eddy's
DESCRIPTION:Every Thursday night 7-9!
URL:https://mww.redirontest.info/event/trivia-at-eddys/2025-12-18/
LOCATION:Montgomery Whitewater\, 1100 Maxell Boulevard\, Montgomery\, AL\, 36104\, United States
ATTACH;FMTTYPE=image/jpeg:https://mww.redirontest.info/wp-content/uploads/2025/01/MW_WeeklyGraphics26_TriviaSolid_1920.jpeg
END:VEVENT
BEGIN:VEVENT
DTSTART;TZID=America/Chicago:20251217T183000
DTEND;TZID=America/Chicago:20251217T183000
DTSTAMP:20260419T160350
CREATED:20251028T213626Z
LAST-MODIFIED:20251113T022844Z
UID:10007044-1765996200-1765996200@mww.redirontest.info
SUMMARY:Broomball\, Burgers\, & Brews
DESCRIPTION:Wednesdays\,\nNovember 19th-February 11th \nAdd some outdoor fun to your mid-week calendar! Games will be played in a pick-up style format and are open to players of all skill levels. Montgomery Whitewater will provide players with equipment. \nGrab beer and burgers before or after the game at Eddy’s from 4-8 pm. \nLearn more.
URL:https://mww.redirontest.info/event/fun-things-to-do-broomball-burgers-brews/2025-12-17/
LOCATION:Montgomery Whitewater\, 1100 Maxell Boulevard\, Montgomery\, AL\, 36104\, United States
ATTACH;FMTTYPE=image/jpeg:https://mww.redirontest.info/wp-content/uploads/2025/10/Broomball_1920x1080_Calendar.jpg
END:VEVENT
BEGIN:VEVENT
DTSTART;TZID=America/Chicago:20251216T180000
DTEND;TZID=America/Chicago:20251216T200000
DTSTAMP:20260419T160350
CREATED:20251028T195055Z
LAST-MODIFIED:20251113T025414Z
UID:10007039-1765908000-1765915200@mww.redirontest.info
SUMMARY:Family Game Night
DESCRIPTION:Reindeer Games \nwith a visit from Santa! \nGet into the holiday spirit with festive games\, hot cocoa\, and a special visit from Santa Claus himself. It’s a magical winter night the whole family will remember!
URL:https://mww.redirontest.info/event/family-game-night-2/
LOCATION:Montgomery Whitewater\, 1100 Maxell Boulevard\, Montgomery\, AL\, 36104\, United States
ATTACH;FMTTYPE=image/jpeg:https://mww.redirontest.info/wp-content/uploads/2025/10/ReindeerGames_1920x1080_Calendar.jpg
END:VEVENT
BEGIN:VEVENT
DTSTART;TZID=America/Chicago:20251214T100000
DTEND;TZID=America/Chicago:20251214T180000
DTSTAMP:20260419T160350
CREATED:20251031T185101Z
LAST-MODIFIED:20251031T185102Z
UID:10006576-1765706400-1765735200@mww.redirontest.info
SUMMARY:Sunday Brunch & Patio Music
DESCRIPTION:On Sunday\, we brunch! Brunch is served from 10 am to 6 pm\, with live patio music from 12 pm to 3 pm.
URL:https://mww.redirontest.info/event/sunday-brunch-patio-music-3/2025-12-14/
LOCATION:Montgomery Whitewater\, 1100 Maxell Boulevard\, Montgomery\, AL\, 36104\, United States
END:VEVENT
BEGIN:VEVENT
DTSTART;TZID=America/Chicago:20251213T170000
DTEND;TZID=America/Chicago:20251213T200000
DTSTAMP:20260419T160350
CREATED:20251028T192934Z
LAST-MODIFIED:20251231T034005Z
UID:10006915-1765645200-1765656000@mww.redirontest.info
SUMMARY:Campfire Music Series
DESCRIPTION:Fridays and Saturdays\nNovember 14-February 14 \nEnjoy live music by the fire and skate beneath the lights. Make lasting memories surrounded by family\, friends\, and the great outdoors. \nSee more upcoming events.
URL:https://mww.redirontest.info/event/campfire-music-series-live-music/2025-12-13/
LOCATION:Montgomery Whitewater\, 1100 Maxell Boulevard\, Montgomery\, AL\, 36104\, United States
ATTACH;FMTTYPE=image/jpeg:https://mww.redirontest.info/wp-content/uploads/2025/10/CFM_1920x1080_Calendar.jpg
END:VEVENT
BEGIN:VEVENT
DTSTART;TZID=America/Chicago:20251213T080000
DTEND;TZID=America/Chicago:20251213T120000
DTSTAMP:20260419T160350
CREATED:20251029T143516Z
LAST-MODIFIED:20251113T024910Z
UID:10007165-1765612800-1765627200@mww.redirontest.info
SUMMARY:Cousin Eddy's 5K & Moose Mug Mile
DESCRIPTION:Cousin Eddy’s 5K 9 am \nMoose Mug Mile Fun Run 10 am  \nChoose your holiday chaos: Cousin Eddy’s 5K\, a not-so-serious sprint where fuzzy hats and bathrobes are practically required (hose optional). Or the Moose Mug Mile\, a one-mile fun run perfect for anyone who hears “5K” and thinks… You serious\, Clark? \nLearn more and register!
URL:https://mww.redirontest.info/event/holiday-5k-cousin-eddys-5k-moose-mug-mile/
LOCATION:Montgomery Whitewater\, 1100 Maxell Boulevard\, Montgomery\, AL\, 36104\, United States
ATTACH;FMTTYPE=image/jpeg:https://mww.redirontest.info/wp-content/uploads/2025/10/CousinEddys_Web_1920x1080.jpg
END:VEVENT
END:VCALENDAR