BEGIN:VCALENDAR
VERSION:2.0
PRODID:-//Montgomery Whitewater - ECPv6.15.17.1//NONSGML v1.0//EN
CALSCALE:GREGORIAN
METHOD:PUBLISH
X-WR-CALNAME:Montgomery Whitewater
X-ORIGINAL-URL:https://mww.redirontest.info
X-WR-CALDESC:Events for Montgomery Whitewater
REFRESH-INTERVAL;VALUE=DURATION:PT1H
X-Robots-Tag:noindex
X-PUBLISHED-TTL:PT1H
BEGIN:VTIMEZONE
TZID:America/Chicago
BEGIN:DAYLIGHT
TZOFFSETFROM:-0600
TZOFFSETTO:-0500
TZNAME:CDT
DTSTART:20250309T080000
END:DAYLIGHT
BEGIN:STANDARD
TZOFFSETFROM:-0500
TZOFFSETTO:-0600
TZNAME:CST
DTSTART:20251102T070000
END:STANDARD
BEGIN:DAYLIGHT
TZOFFSETFROM:-0600
TZOFFSETTO:-0500
TZNAME:CDT
DTSTART:20260308T080000
END:DAYLIGHT
BEGIN:STANDARD
TZOFFSETFROM:-0500
TZOFFSETTO:-0600
TZNAME:CST
DTSTART:20261101T070000
END:STANDARD
BEGIN:DAYLIGHT
TZOFFSETFROM:-0600
TZOFFSETTO:-0500
TZNAME:CDT
DTSTART:20270314T080000
END:DAYLIGHT
BEGIN:STANDARD
TZOFFSETFROM:-0500
TZOFFSETTO:-0600
TZNAME:CST
DTSTART:20271107T070000
END:STANDARD
END:VTIMEZONE
BEGIN:VEVENT
DTSTART;TZID=America/Chicago:20260516T090000
DTEND;TZID=America/Chicago:20260516T110000
DTSTAMP:20260419T072921
CREATED:20260205T191800Z
LAST-MODIFIED:20260217T011537Z
UID:10007299-1778922000-1778929200@mww.redirontest.info
SUMMARY:Nature School
DESCRIPTION:2026 Spring Session \nFor more information and registration\, please visit the Nature School Event Page. \n 
URL:https://mww.redirontest.info/event/nature-school-2/2026-05-16/
LOCATION:Montgomery Whitewater\, 1100 Maxell Boulevard\, Montgomery\, AL\, 36104\, United States
ATTACH;FMTTYPE=image/jpeg:https://mww.redirontest.info/wp-content/uploads/2026/02/MW_NatureSchoolSocial_26Green_Logo-scaled.jpg
END:VEVENT
BEGIN:VEVENT
DTSTART;TZID=America/Chicago:20260517T100000
DTEND;TZID=America/Chicago:20260517T180000
DTSTAMP:20260419T072921
CREATED:20260220T165038Z
LAST-MODIFIED:20260220T165223Z
UID:10007584-1779012000-1779040800@mww.redirontest.info
SUMMARY:Sunday Brunch & Patio Music
DESCRIPTION:On Sunday\, we brunch! Brunch is served from 10 am to 6 pm\, with live patio music from 1 pm to 4 pm.
URL:https://mww.redirontest.info/event/sunday-brunch-patio-music-3-3-3/2026-05-17/
LOCATION:Montgomery Whitewater\, 1100 Maxell Boulevard\, Montgomery\, AL\, 36104\, United States
END:VEVENT
BEGIN:VEVENT
DTSTART;TZID=America/Chicago:20260521T190000
DTEND;TZID=America/Chicago:20260521T210000
DTSTAMP:20260419T072921
CREATED:20250120T170215Z
LAST-MODIFIED:20260120T175629Z
UID:10006009-1779390000-1779397200@mww.redirontest.info
SUMMARY:Trivia at Eddy's
DESCRIPTION:Every Thursday night 7-9!
URL:https://mww.redirontest.info/event/trivia-at-eddys/2026-05-21/
LOCATION:Montgomery Whitewater\, 1100 Maxell Boulevard\, Montgomery\, AL\, 36104\, United States
ATTACH;FMTTYPE=image/jpeg:https://mww.redirontest.info/wp-content/uploads/2025/01/MW_WeeklyGraphics26_TriviaSolid_1920.jpeg
END:VEVENT
BEGIN:VEVENT
DTSTART;TZID=America/Chicago:20260523T090000
DTEND;TZID=America/Chicago:20260523T110000
DTSTAMP:20260419T072921
CREATED:20260205T191800Z
LAST-MODIFIED:20260217T011537Z
UID:10007300-1779526800-1779534000@mww.redirontest.info
SUMMARY:Nature School
DESCRIPTION:2026 Spring Session \nFor more information and registration\, please visit the Nature School Event Page. \n 
URL:https://mww.redirontest.info/event/nature-school-2/2026-05-23/
LOCATION:Montgomery Whitewater\, 1100 Maxell Boulevard\, Montgomery\, AL\, 36104\, United States
ATTACH;FMTTYPE=image/jpeg:https://mww.redirontest.info/wp-content/uploads/2026/02/MW_NatureSchoolSocial_26Green_Logo-scaled.jpg
END:VEVENT
BEGIN:VEVENT
DTSTART;TZID=America/Chicago:20260524T100000
DTEND;TZID=America/Chicago:20260524T180000
DTSTAMP:20260419T072921
CREATED:20260220T165038Z
LAST-MODIFIED:20260220T165223Z
UID:10007585-1779616800-1779645600@mww.redirontest.info
SUMMARY:Sunday Brunch & Patio Music
DESCRIPTION:On Sunday\, we brunch! Brunch is served from 10 am to 6 pm\, with live patio music from 1 pm to 4 pm.
URL:https://mww.redirontest.info/event/sunday-brunch-patio-music-3-3-3/2026-05-24/
LOCATION:Montgomery Whitewater\, 1100 Maxell Boulevard\, Montgomery\, AL\, 36104\, United States
END:VEVENT
BEGIN:VEVENT
DTSTART;TZID=America/Chicago:20260528T190000
DTEND;TZID=America/Chicago:20260528T210000
DTSTAMP:20260419T072921
CREATED:20250120T170215Z
LAST-MODIFIED:20260120T175629Z
UID:10006010-1779994800-1780002000@mww.redirontest.info
SUMMARY:Trivia at Eddy's
DESCRIPTION:Every Thursday night 7-9!
URL:https://mww.redirontest.info/event/trivia-at-eddys/2026-05-28/
LOCATION:Montgomery Whitewater\, 1100 Maxell Boulevard\, Montgomery\, AL\, 36104\, United States
ATTACH;FMTTYPE=image/jpeg:https://mww.redirontest.info/wp-content/uploads/2025/01/MW_WeeklyGraphics26_TriviaSolid_1920.jpeg
END:VEVENT
BEGIN:VEVENT
DTSTART;TZID=America/Chicago:20260530T090000
DTEND;TZID=America/Chicago:20260530T110000
DTSTAMP:20260419T072921
CREATED:20260205T191800Z
LAST-MODIFIED:20260217T011537Z
UID:10007301-1780131600-1780138800@mww.redirontest.info
SUMMARY:Nature School
DESCRIPTION:2026 Spring Session \nFor more information and registration\, please visit the Nature School Event Page. \n 
URL:https://mww.redirontest.info/event/nature-school-2/2026-05-30/
LOCATION:Montgomery Whitewater\, 1100 Maxell Boulevard\, Montgomery\, AL\, 36104\, United States
ATTACH;FMTTYPE=image/jpeg:https://mww.redirontest.info/wp-content/uploads/2026/02/MW_NatureSchoolSocial_26Green_Logo-scaled.jpg
END:VEVENT
BEGIN:VEVENT
DTSTART;TZID=America/Chicago:20260531T100000
DTEND;TZID=America/Chicago:20260531T180000
DTSTAMP:20260419T072921
CREATED:20260220T165038Z
LAST-MODIFIED:20260220T165223Z
UID:10007586-1780221600-1780250400@mww.redirontest.info
SUMMARY:Sunday Brunch & Patio Music
DESCRIPTION:On Sunday\, we brunch! Brunch is served from 10 am to 6 pm\, with live patio music from 1 pm to 4 pm.
URL:https://mww.redirontest.info/event/sunday-brunch-patio-music-3-3-3/2026-05-31/
LOCATION:Montgomery Whitewater\, 1100 Maxell Boulevard\, Montgomery\, AL\, 36104\, United States
END:VEVENT
BEGIN:VEVENT
DTSTART;TZID=America/Chicago:20260604T190000
DTEND;TZID=America/Chicago:20260604T210000
DTSTAMP:20260419T072921
CREATED:20250120T170215Z
LAST-MODIFIED:20260120T175629Z
UID:10006011-1780599600-1780606800@mww.redirontest.info
SUMMARY:Trivia at Eddy's
DESCRIPTION:Every Thursday night 7-9!
URL:https://mww.redirontest.info/event/trivia-at-eddys/2026-06-04/
LOCATION:Montgomery Whitewater\, 1100 Maxell Boulevard\, Montgomery\, AL\, 36104\, United States
ATTACH;FMTTYPE=image/jpeg:https://mww.redirontest.info/wp-content/uploads/2025/01/MW_WeeklyGraphics26_TriviaSolid_1920.jpeg
END:VEVENT
BEGIN:VEVENT
DTSTART;TZID=America/Chicago:20260611T190000
DTEND;TZID=America/Chicago:20260611T210000
DTSTAMP:20260419T072921
CREATED:20250120T170215Z
LAST-MODIFIED:20260120T175629Z
UID:10006012-1781204400-1781211600@mww.redirontest.info
SUMMARY:Trivia at Eddy's
DESCRIPTION:Every Thursday night 7-9!
URL:https://mww.redirontest.info/event/trivia-at-eddys/2026-06-11/
LOCATION:Montgomery Whitewater\, 1100 Maxell Boulevard\, Montgomery\, AL\, 36104\, United States
ATTACH;FMTTYPE=image/jpeg:https://mww.redirontest.info/wp-content/uploads/2025/01/MW_WeeklyGraphics26_TriviaSolid_1920.jpeg
END:VEVENT
BEGIN:VEVENT
DTSTART;TZID=America/Chicago:20260618T190000
DTEND;TZID=America/Chicago:20260618T210000
DTSTAMP:20260419T072921
CREATED:20250120T170215Z
LAST-MODIFIED:20260120T175629Z
UID:10006013-1781809200-1781816400@mww.redirontest.info
SUMMARY:Trivia at Eddy's
DESCRIPTION:Every Thursday night 7-9!
URL:https://mww.redirontest.info/event/trivia-at-eddys/2026-06-18/
LOCATION:Montgomery Whitewater\, 1100 Maxell Boulevard\, Montgomery\, AL\, 36104\, United States
ATTACH;FMTTYPE=image/jpeg:https://mww.redirontest.info/wp-content/uploads/2025/01/MW_WeeklyGraphics26_TriviaSolid_1920.jpeg
END:VEVENT
BEGIN:VEVENT
DTSTART;TZID=America/Chicago:20260625T190000
DTEND;TZID=America/Chicago:20260625T210000
DTSTAMP:20260419T072921
CREATED:20250120T170215Z
LAST-MODIFIED:20260120T175629Z
UID:10006014-1782414000-1782421200@mww.redirontest.info
SUMMARY:Trivia at Eddy's
DESCRIPTION:Every Thursday night 7-9!
URL:https://mww.redirontest.info/event/trivia-at-eddys/2026-06-25/
LOCATION:Montgomery Whitewater\, 1100 Maxell Boulevard\, Montgomery\, AL\, 36104\, United States
ATTACH;FMTTYPE=image/jpeg:https://mww.redirontest.info/wp-content/uploads/2025/01/MW_WeeklyGraphics26_TriviaSolid_1920.jpeg
END:VEVENT
BEGIN:VEVENT
DTSTART;TZID=America/Chicago:20260702T190000
DTEND;TZID=America/Chicago:20260702T210000
DTSTAMP:20260419T072921
CREATED:20250120T170215Z
LAST-MODIFIED:20260120T175629Z
UID:10006015-1783018800-1783026000@mww.redirontest.info
SUMMARY:Trivia at Eddy's
DESCRIPTION:Every Thursday night 7-9!
URL:https://mww.redirontest.info/event/trivia-at-eddys/2026-07-02/
LOCATION:Montgomery Whitewater\, 1100 Maxell Boulevard\, Montgomery\, AL\, 36104\, United States
ATTACH;FMTTYPE=image/jpeg:https://mww.redirontest.info/wp-content/uploads/2025/01/MW_WeeklyGraphics26_TriviaSolid_1920.jpeg
END:VEVENT
BEGIN:VEVENT
DTSTART;TZID=America/Chicago:20260709T190000
DTEND;TZID=America/Chicago:20260709T210000
DTSTAMP:20260419T072921
CREATED:20250120T170215Z
LAST-MODIFIED:20260120T175629Z
UID:10006016-1783623600-1783630800@mww.redirontest.info
SUMMARY:Trivia at Eddy's
DESCRIPTION:Every Thursday night 7-9!
URL:https://mww.redirontest.info/event/trivia-at-eddys/2026-07-09/
LOCATION:Montgomery Whitewater\, 1100 Maxell Boulevard\, Montgomery\, AL\, 36104\, United States
ATTACH;FMTTYPE=image/jpeg:https://mww.redirontest.info/wp-content/uploads/2025/01/MW_WeeklyGraphics26_TriviaSolid_1920.jpeg
END:VEVENT
BEGIN:VEVENT
DTSTART;TZID=America/Chicago:20260716T190000
DTEND;TZID=America/Chicago:20260716T210000
DTSTAMP:20260419T072921
CREATED:20250120T170215Z
LAST-MODIFIED:20260120T175629Z
UID:10006017-1784228400-1784235600@mww.redirontest.info
SUMMARY:Trivia at Eddy's
DESCRIPTION:Every Thursday night 7-9!
URL:https://mww.redirontest.info/event/trivia-at-eddys/2026-07-16/
LOCATION:Montgomery Whitewater\, 1100 Maxell Boulevard\, Montgomery\, AL\, 36104\, United States
ATTACH;FMTTYPE=image/jpeg:https://mww.redirontest.info/wp-content/uploads/2025/01/MW_WeeklyGraphics26_TriviaSolid_1920.jpeg
END:VEVENT
BEGIN:VEVENT
DTSTART;TZID=America/Chicago:20260723T190000
DTEND;TZID=America/Chicago:20260723T210000
DTSTAMP:20260419T072921
CREATED:20250120T170215Z
LAST-MODIFIED:20260120T175629Z
UID:10006018-1784833200-1784840400@mww.redirontest.info
SUMMARY:Trivia at Eddy's
DESCRIPTION:Every Thursday night 7-9!
URL:https://mww.redirontest.info/event/trivia-at-eddys/2026-07-23/
LOCATION:Montgomery Whitewater\, 1100 Maxell Boulevard\, Montgomery\, AL\, 36104\, United States
ATTACH;FMTTYPE=image/jpeg:https://mww.redirontest.info/wp-content/uploads/2025/01/MW_WeeklyGraphics26_TriviaSolid_1920.jpeg
END:VEVENT
BEGIN:VEVENT
DTSTART;TZID=America/Chicago:20260730T190000
DTEND;TZID=America/Chicago:20260730T210000
DTSTAMP:20260419T072921
CREATED:20250120T170215Z
LAST-MODIFIED:20260120T175629Z
UID:10006019-1785438000-1785445200@mww.redirontest.info
SUMMARY:Trivia at Eddy's
DESCRIPTION:Every Thursday night 7-9!
URL:https://mww.redirontest.info/event/trivia-at-eddys/2026-07-30/
LOCATION:Montgomery Whitewater\, 1100 Maxell Boulevard\, Montgomery\, AL\, 36104\, United States
ATTACH;FMTTYPE=image/jpeg:https://mww.redirontest.info/wp-content/uploads/2025/01/MW_WeeklyGraphics26_TriviaSolid_1920.jpeg
END:VEVENT
BEGIN:VEVENT
DTSTART;TZID=America/Chicago:20260806T190000
DTEND;TZID=America/Chicago:20260806T210000
DTSTAMP:20260419T072921
CREATED:20250120T170215Z
LAST-MODIFIED:20260120T175629Z
UID:10006020-1786042800-1786050000@mww.redirontest.info
SUMMARY:Trivia at Eddy's
DESCRIPTION:Every Thursday night 7-9!
URL:https://mww.redirontest.info/event/trivia-at-eddys/2026-08-06/
LOCATION:Montgomery Whitewater\, 1100 Maxell Boulevard\, Montgomery\, AL\, 36104\, United States
ATTACH;FMTTYPE=image/jpeg:https://mww.redirontest.info/wp-content/uploads/2025/01/MW_WeeklyGraphics26_TriviaSolid_1920.jpeg
END:VEVENT
BEGIN:VEVENT
DTSTART;TZID=America/Chicago:20260813T190000
DTEND;TZID=America/Chicago:20260813T210000
DTSTAMP:20260419T072921
CREATED:20250120T170215Z
LAST-MODIFIED:20260120T175629Z
UID:10006021-1786647600-1786654800@mww.redirontest.info
SUMMARY:Trivia at Eddy's
DESCRIPTION:Every Thursday night 7-9!
URL:https://mww.redirontest.info/event/trivia-at-eddys/2026-08-13/
LOCATION:Montgomery Whitewater\, 1100 Maxell Boulevard\, Montgomery\, AL\, 36104\, United States
ATTACH;FMTTYPE=image/jpeg:https://mww.redirontest.info/wp-content/uploads/2025/01/MW_WeeklyGraphics26_TriviaSolid_1920.jpeg
END:VEVENT
BEGIN:VEVENT
DTSTART;TZID=America/Chicago:20260820T190000
DTEND;TZID=America/Chicago:20260820T210000
DTSTAMP:20260419T072921
CREATED:20250120T170215Z
LAST-MODIFIED:20260120T175629Z
UID:10006022-1787252400-1787259600@mww.redirontest.info
SUMMARY:Trivia at Eddy's
DESCRIPTION:Every Thursday night 7-9!
URL:https://mww.redirontest.info/event/trivia-at-eddys/2026-08-20/
LOCATION:Montgomery Whitewater\, 1100 Maxell Boulevard\, Montgomery\, AL\, 36104\, United States
ATTACH;FMTTYPE=image/jpeg:https://mww.redirontest.info/wp-content/uploads/2025/01/MW_WeeklyGraphics26_TriviaSolid_1920.jpeg
END:VEVENT
BEGIN:VEVENT
DTSTART;TZID=America/Chicago:20260827T190000
DTEND;TZID=America/Chicago:20260827T210000
DTSTAMP:20260419T072921
CREATED:20250120T170215Z
LAST-MODIFIED:20260120T175629Z
UID:10006023-1787857200-1787864400@mww.redirontest.info
SUMMARY:Trivia at Eddy's
DESCRIPTION:Every Thursday night 7-9!
URL:https://mww.redirontest.info/event/trivia-at-eddys/2026-08-27/
LOCATION:Montgomery Whitewater\, 1100 Maxell Boulevard\, Montgomery\, AL\, 36104\, United States
ATTACH;FMTTYPE=image/jpeg:https://mww.redirontest.info/wp-content/uploads/2025/01/MW_WeeklyGraphics26_TriviaSolid_1920.jpeg
END:VEVENT
BEGIN:VEVENT
DTSTART;TZID=America/Chicago:20260903T190000
DTEND;TZID=America/Chicago:20260903T210000
DTSTAMP:20260419T072921
CREATED:20250120T170215Z
LAST-MODIFIED:20260120T175629Z
UID:10006024-1788462000-1788469200@mww.redirontest.info
SUMMARY:Trivia at Eddy's
DESCRIPTION:Every Thursday night 7-9!
URL:https://mww.redirontest.info/event/trivia-at-eddys/2026-09-03/
LOCATION:Montgomery Whitewater\, 1100 Maxell Boulevard\, Montgomery\, AL\, 36104\, United States
ATTACH;FMTTYPE=image/jpeg:https://mww.redirontest.info/wp-content/uploads/2025/01/MW_WeeklyGraphics26_TriviaSolid_1920.jpeg
END:VEVENT
BEGIN:VEVENT
DTSTART;TZID=America/Chicago:20260910T190000
DTEND;TZID=America/Chicago:20260910T210000
DTSTAMP:20260419T072921
CREATED:20250120T170215Z
LAST-MODIFIED:20260120T175629Z
UID:10006025-1789066800-1789074000@mww.redirontest.info
SUMMARY:Trivia at Eddy's
DESCRIPTION:Every Thursday night 7-9!
URL:https://mww.redirontest.info/event/trivia-at-eddys/2026-09-10/
LOCATION:Montgomery Whitewater\, 1100 Maxell Boulevard\, Montgomery\, AL\, 36104\, United States
ATTACH;FMTTYPE=image/jpeg:https://mww.redirontest.info/wp-content/uploads/2025/01/MW_WeeklyGraphics26_TriviaSolid_1920.jpeg
END:VEVENT
BEGIN:VEVENT
DTSTART;TZID=America/Chicago:20260917T190000
DTEND;TZID=America/Chicago:20260917T210000
DTSTAMP:20260419T072921
CREATED:20250120T170215Z
LAST-MODIFIED:20260120T175629Z
UID:10006026-1789671600-1789678800@mww.redirontest.info
SUMMARY:Trivia at Eddy's
DESCRIPTION:Every Thursday night 7-9!
URL:https://mww.redirontest.info/event/trivia-at-eddys/2026-09-17/
LOCATION:Montgomery Whitewater\, 1100 Maxell Boulevard\, Montgomery\, AL\, 36104\, United States
ATTACH;FMTTYPE=image/jpeg:https://mww.redirontest.info/wp-content/uploads/2025/01/MW_WeeklyGraphics26_TriviaSolid_1920.jpeg
END:VEVENT
BEGIN:VEVENT
DTSTART;TZID=America/Chicago:20260924T190000
DTEND;TZID=America/Chicago:20260924T210000
DTSTAMP:20260419T072921
CREATED:20250120T170215Z
LAST-MODIFIED:20260120T175629Z
UID:10006027-1790276400-1790283600@mww.redirontest.info
SUMMARY:Trivia at Eddy's
DESCRIPTION:Every Thursday night 7-9!
URL:https://mww.redirontest.info/event/trivia-at-eddys/2026-09-24/
LOCATION:Montgomery Whitewater\, 1100 Maxell Boulevard\, Montgomery\, AL\, 36104\, United States
ATTACH;FMTTYPE=image/jpeg:https://mww.redirontest.info/wp-content/uploads/2025/01/MW_WeeklyGraphics26_TriviaSolid_1920.jpeg
END:VEVENT
BEGIN:VEVENT
DTSTART;TZID=America/Chicago:20261001T190000
DTEND;TZID=America/Chicago:20261001T210000
DTSTAMP:20260419T072921
CREATED:20250120T170215Z
LAST-MODIFIED:20260120T175629Z
UID:10006028-1790881200-1790888400@mww.redirontest.info
SUMMARY:Trivia at Eddy's
DESCRIPTION:Every Thursday night 7-9!
URL:https://mww.redirontest.info/event/trivia-at-eddys/2026-10-01/
LOCATION:Montgomery Whitewater\, 1100 Maxell Boulevard\, Montgomery\, AL\, 36104\, United States
ATTACH;FMTTYPE=image/jpeg:https://mww.redirontest.info/wp-content/uploads/2025/01/MW_WeeklyGraphics26_TriviaSolid_1920.jpeg
END:VEVENT
BEGIN:VEVENT
DTSTART;TZID=America/Chicago:20261008T190000
DTEND;TZID=America/Chicago:20261008T210000
DTSTAMP:20260419T072921
CREATED:20250120T170215Z
LAST-MODIFIED:20260120T175629Z
UID:10006029-1791486000-1791493200@mww.redirontest.info
SUMMARY:Trivia at Eddy's
DESCRIPTION:Every Thursday night 7-9!
URL:https://mww.redirontest.info/event/trivia-at-eddys/2026-10-08/
LOCATION:Montgomery Whitewater\, 1100 Maxell Boulevard\, Montgomery\, AL\, 36104\, United States
ATTACH;FMTTYPE=image/jpeg:https://mww.redirontest.info/wp-content/uploads/2025/01/MW_WeeklyGraphics26_TriviaSolid_1920.jpeg
END:VEVENT
BEGIN:VEVENT
DTSTART;TZID=America/Chicago:20261015T190000
DTEND;TZID=America/Chicago:20261015T210000
DTSTAMP:20260419T072921
CREATED:20250120T170215Z
LAST-MODIFIED:20260120T175629Z
UID:10006030-1792090800-1792098000@mww.redirontest.info
SUMMARY:Trivia at Eddy's
DESCRIPTION:Every Thursday night 7-9!
URL:https://mww.redirontest.info/event/trivia-at-eddys/2026-10-15/
LOCATION:Montgomery Whitewater\, 1100 Maxell Boulevard\, Montgomery\, AL\, 36104\, United States
ATTACH;FMTTYPE=image/jpeg:https://mww.redirontest.info/wp-content/uploads/2025/01/MW_WeeklyGraphics26_TriviaSolid_1920.jpeg
END:VEVENT
BEGIN:VEVENT
DTSTART;TZID=America/Chicago:20261022T190000
DTEND;TZID=America/Chicago:20261022T210000
DTSTAMP:20260419T072921
CREATED:20250120T170215Z
LAST-MODIFIED:20260120T175629Z
UID:10006031-1792695600-1792702800@mww.redirontest.info
SUMMARY:Trivia at Eddy's
DESCRIPTION:Every Thursday night 7-9!
URL:https://mww.redirontest.info/event/trivia-at-eddys/2026-10-22/
LOCATION:Montgomery Whitewater\, 1100 Maxell Boulevard\, Montgomery\, AL\, 36104\, United States
ATTACH;FMTTYPE=image/jpeg:https://mww.redirontest.info/wp-content/uploads/2025/01/MW_WeeklyGraphics26_TriviaSolid_1920.jpeg
END:VEVENT
BEGIN:VEVENT
DTSTART;TZID=America/Chicago:20261029T190000
DTEND;TZID=America/Chicago:20261029T210000
DTSTAMP:20260419T072921
CREATED:20250120T170215Z
LAST-MODIFIED:20260120T175629Z
UID:10006032-1793300400-1793307600@mww.redirontest.info
SUMMARY:Trivia at Eddy's
DESCRIPTION:Every Thursday night 7-9!
URL:https://mww.redirontest.info/event/trivia-at-eddys/2026-10-29/
LOCATION:Montgomery Whitewater\, 1100 Maxell Boulevard\, Montgomery\, AL\, 36104\, United States
ATTACH;FMTTYPE=image/jpeg:https://mww.redirontest.info/wp-content/uploads/2025/01/MW_WeeklyGraphics26_TriviaSolid_1920.jpeg
END:VEVENT
END:VCALENDAR